BEGIN:VCALENDAR
VERSION:2.0
PRODID:-//Skate-A-While Longer LLC - ECPv6.15.20//NONSGML v1.0//EN
CALSCALE:GREGORIAN
METHOD:PUBLISH
X-WR-CALNAME:Skate-A-While Longer LLC
X-ORIGINAL-URL:https://skateawhile.com
X-WR-CALDESC:Events for Skate-A-While Longer LLC
REFRESH-INTERVAL;VALUE=DURATION:PT1H
X-Robots-Tag:noindex
X-PUBLISHED-TTL:PT1H
BEGIN:VTIMEZONE
TZID:America/Halifax
BEGIN:DAYLIGHT
TZOFFSETFROM:-0400
TZOFFSETTO:-0300
TZNAME:ADT
DTSTART:20230312T060000
END:DAYLIGHT
BEGIN:STANDARD
TZOFFSETFROM:-0300
TZOFFSETTO:-0400
TZNAME:AST
DTSTART:20231105T050000
END:STANDARD
BEGIN:DAYLIGHT
TZOFFSETFROM:-0400
TZOFFSETTO:-0300
TZNAME:ADT
DTSTART:20240310T060000
END:DAYLIGHT
BEGIN:STANDARD
TZOFFSETFROM:-0300
TZOFFSETTO:-0400
TZNAME:AST
DTSTART:20241103T050000
END:STANDARD
BEGIN:DAYLIGHT
TZOFFSETFROM:-0400
TZOFFSETTO:-0300
TZNAME:ADT
DTSTART:20250309T060000
END:DAYLIGHT
BEGIN:STANDARD
TZOFFSETFROM:-0300
TZOFFSETTO:-0400
TZNAME:AST
DTSTART:20251102T050000
END:STANDARD
END:VTIMEZONE
BEGIN:VEVENT
DTSTART;TZID=America/Halifax:20241107T180000
DTEND;TZID=America/Halifax:20241107T210000
DTSTAMP:20260419T095444
CREATED:20241007T002551Z
LAST-MODIFIED:20241007T002551Z
UID:1165-1731002400-1731013200@skateawhile.com
SUMMARY:Adult Night
DESCRIPTION:
URL:https://skateawhile.com/event/adult-night-7
LOCATION:Skate-A-While Longer\, LLC\, 220 Ridge St.\, Rome\, NY\, 13440\, United States
ATTACH;FMTTYPE=image/jpeg:https://skateawhile.com/wp-content/uploads/2024/10/Adult-Night-2024.jpg
END:VEVENT
BEGIN:VEVENT
DTSTART;TZID=America/Halifax:20241111T120000
DTEND;TZID=America/Halifax:20241111T160000
DTSTAMP:20260419T095444
CREATED:20240907T225228Z
LAST-MODIFIED:20240907T225802Z
UID:1128-1731326400-1731340800@skateawhile.com
SUMMARY:Veteran's Day Skate
DESCRIPTION:
URL:https://skateawhile.com/event/school-break-skate-18
LOCATION:Skate-A-While Longer\, LLC\, 220 Ridge St.\, Rome\, NY\, 13440\, United States
ATTACH;FMTTYPE=image/jpeg:https://skateawhile.com/wp-content/uploads/2024/09/Veterans-Day-Skate-2024.jpg
END:VEVENT
BEGIN:VEVENT
DTSTART;TZID=America/Halifax:20241121T180000
DTEND;TZID=America/Halifax:20241121T210000
DTSTAMP:20260419T095444
CREATED:20241007T002707Z
LAST-MODIFIED:20241007T002707Z
UID:1167-1732212000-1732222800@skateawhile.com
SUMMARY:Adult Night
DESCRIPTION:
URL:https://skateawhile.com/event/adult-night-8
LOCATION:Skate-A-While Longer\, LLC\, 220 Ridge St.\, Rome\, NY\, 13440\, United States
ATTACH;FMTTYPE=image/jpeg:https://skateawhile.com/wp-content/uploads/2024/10/Adult-Night-2024.jpg
END:VEVENT
BEGIN:VEVENT
DTSTART;TZID=America/Halifax:20241127T120000
DTEND;TZID=America/Halifax:20241127T160000
DTSTAMP:20260419T095444
CREATED:20240907T225334Z
LAST-MODIFIED:20240907T225334Z
UID:1130-1732708800-1732723200@skateawhile.com
SUMMARY:School Break Skate
DESCRIPTION:
URL:https://skateawhile.com/event/school-break-skate-19
LOCATION:Skate-A-While Longer\, LLC\, 220 Ridge St.\, Rome\, NY\, 13440\, United States
ATTACH;FMTTYPE=image/jpeg:https://skateawhile.com/wp-content/uploads/2024/09/School-Break-2024-25.jpg
END:VEVENT
BEGIN:VEVENT
DTSTART;TZID=America/Halifax:20241129T120000
DTEND;TZID=America/Halifax:20241129T160000
DTSTAMP:20260419T095444
CREATED:20240907T225421Z
LAST-MODIFIED:20241007T002846Z
UID:1132-1732881600-1732896000@skateawhile.com
SUMMARY:Black Friday Skate
DESCRIPTION:
URL:https://skateawhile.com/event/school-break-skate-20
LOCATION:Skate-A-While Longer\, LLC\, 220 Ridge St.\, Rome\, NY\, 13440\, United States
ATTACH;FMTTYPE=image/jpeg:https://skateawhile.com/wp-content/uploads/2024/09/School-Break-2024-25.jpg
END:VEVENT
END:VCALENDAR